BEGIN:VCALENDAR
VERSION:2.0
PRODID:-//Tukios.com/
BEGIN:VEVENT
UID:f76c7aa8-8752-40ab-83fe-69d44ded3b3e@www.tlkingfh.com
DTSTAMP:20260423T011659Z
DTSTART:20260424T210000Z
DTEND:20260424T220000Z
SUMMARY:Memorial Service
DESCRIPTION:
URL:https://www.tlkingfh.com/obituaries/william-bill-luke-iii
LOCATION: 124 Davis Road  Martinez GA 30907
GEO:33.5100404;-82.0836606
END:VEVENT
END:VCALENDAR