BEGIN:VCALENDAR
VERSION:2.0
PRODID:-//Tukios.com/
BEGIN:VEVENT
UID:a40bda2a-fab4-46e4-92e0-a8779bccca0d@www.tlkingfh.com
DTSTAMP:20260423T011526Z
DTSTART:20260424T200000Z
DTEND:20260424T210000Z
SUMMARY:Viewing
DESCRIPTION:
URL:https://www.tlkingfh.com/obituaries/william-bill-luke-iii
LOCATION: 124 Davis Road  Martinez GA 30907
GEO:33.5100404;-82.0836606
END:VEVENT
END:VCALENDAR