BEGIN:VCALENDAR
VERSION:2.0
PRODID:-//Tukios.com/
BEGIN:VEVENT
UID:0ea747a2-ddd7-4e5e-b3f3-88cf6b32f9e3@www.tlkingfh.com
DTSTAMP:20260423T010959Z
DTSTART:20260427T140000Z
DTEND:20260427T150000Z
SUMMARY:Visitation
DESCRIPTION:
URL:https://www.tlkingfh.com/obituaries/ola-screws
LOCATION: 124 Davis Road  Martinez GA 30907
GEO:33.5100404;-82.0836606
END:VEVENT
END:VCALENDAR