BEGIN:VCALENDAR
VERSION:2.0
PRODID:-//Tukios.com/
BEGIN:VEVENT
UID:37907d11-3cdf-4c1f-833b-767501af9347@www.tlkingfh.com
DTSTAMP:20260423T010954Z
DTSTART:20260427T150000Z
DTEND:20260427T160000Z
SUMMARY:Funeral Service
DESCRIPTION:
URL:https://www.tlkingfh.com/obituaries/ola-screws
LOCATION: 124 Davis Road  Martinez GA 30907
GEO:33.5100404;-82.0836606
END:VEVENT
END:VCALENDAR